<?xml version="1.0"?>
<!--<!DOCTYPE metadata SYSTEM "http://www.esri.com/metadata/esriprof80.dtd">-->
<metadata xml:lang="en"><Esri><MetaID>{D420C18D-E383-4469-9197-59F9BB76B450}</MetaID><CreaDate>20090803</CreaDate><CreaTime>15465100</CreaTime><SyncOnce>FALSE</SyncOnce><DataProperties><lineage><Process ToolSource="C:\Program Files\ArcGIS\ArcToolbox\Toolboxes\Data Management Tools.tbx\BuildPyramids" Date="20090803" Time="154651">BuildPyramids J:\ImageRepository\Orthophotos\YTG_CommServices\OldCrow\Ortho\ocPan_ortho_OldCrow_1997_utm8.tif J:\ImageRepository\Orthophotos\YTG_CommServices\OldCrow\Ortho\ocPan_ortho_OldCrow_1997_utm8.tif</Process><Process ToolSource="C:\Program Files (x86)\ArcGIS\Desktop10.0\ArcToolbox\Toolboxes\Data Management Tools.tbx\CalculateStatistics" Date="20111108" Time="162821">CalculateStatistics \\storestatic\geo-data\TEST\Orthophotos\GY\LandPlanning\OldCrow\Processed\tif\ortho_OldCrow_1997_utm7.tif 3 3 0;255</Process><Process ToolSource="C:\Program Files\ArcGIS\Desktop10.0\ArcToolbox\Toolboxes\Data Management Tools.tbx\CalculateStatistics" Date="20111128" Time="110906">CalculateStatistics \\storestatic\geo-data\public\Orthophotos\GY\LandPlanning\OldCrow\Processed\tif\ortho_OldCrow_1997_utm7.tif 3 3 0;255;254</Process><Process ToolSource="C:\Program Files\ArcGIS\Desktop10.0\ArcToolbox\Toolboxes\Data Management Tools.tbx\CalculateStatistics" Date="20111128" Time="113501">CalculateStatistics \\storestatic\geo-data\public\Orthophotos\GY\LandPlanning\OldCrow\Processed\tif\ortho_OldCrow_1997_utm7.tif 3 3 0;255</Process><Process ToolSource="c:\program files (x86)\arcgis\desktop10.2\ArcToolbox\Toolboxes\Data Management Tools.tbx\CopyRaster" Date="20140328" Time="162306">CopyRaster G:\Imagery\Aerial\GY\LandPlanning\OldCrow\ortho_OldCrow_1997_utm7.tif G:\GY_ProcessedImagery\Aerial\GY\LandPlanning\OldCrow\ortho_OldCrow_1997_utm7.tif # # 256 NONE NONE # NONE NONE</Process></lineage><itemProps><itemName Sync="TRUE">ortho_OldCrow_1997_utm7.tif</itemName><itemLocation><linkage Sync="TRUE">file://G:\GY_ProcessedImagery\Aerial\GY\LandPlanning\OldCrow\ortho_OldCrow_1997_utm7.tif</linkage><protocol Sync="TRUE">Local Area Network</protocol></itemLocation><imsContentType Sync="TRUE">002</imsContentType><nativeExtBox><westBL Sync="TRUE">542760.000000</westBL><eastBL Sync="TRUE">560868.000000</eastBL><southBL Sync="TRUE">7485810.000000</southBL><northBL Sync="TRUE">7501872.000000</northBL><exTypeCode Sync="TRUE">1</exTypeCode></nativeExtBox></itemProps><coordRef><type Sync="TRUE">Projected</type><geogcsn Sync="TRUE">GCS_North_American_1983</geogcsn><csUnits Sync="TRUE">Linear Unit: Meter (1.000000)</csUnits><projcsn Sync="TRUE">NAD83_UTM_zone_7N</projcsn><peXml Sync="TRUE">&lt;ProjectedCoordinateSystem xsi:type='typens:ProjectedCoordinateSystem' xmlns:xsi='http://www.w3.org/2001/XMLSchema-instance' xmlns:xs='http://www.w3.org/2001/XMLSchema' xmlns:typens='http://www.esri.com/schemas/ArcGIS/10.1'&gt;&lt;WKT&gt;PROJCS[&amp;quot;NAD83_UTM_zone_7N&amp;quot;,GEOGCS[&amp;quot;GCS_North_American_1983&amp;quot;,DATUM[&amp;quot;D_North_American_1983&amp;quot;,SPHEROID[&amp;quot;GRS_1980&amp;quot;,6378137.0,298.257222101]],PRIMEM[&amp;quot;Greenwich&amp;quot;,0.0],UNIT[&amp;quot;Degree&amp;quot;,0.0174532925199433]],PROJECTION[&amp;quot;Transverse_Mercator&amp;quot;],PARAMETER[&amp;quot;false_easting&amp;quot;,500000.0],PARAMETER[&amp;quot;false_northing&amp;quot;,0.0],PARAMETER[&amp;quot;central_meridian&amp;quot;,-141.0],PARAMETER[&amp;quot;scale_factor&amp;quot;,0.9996],PARAMETER[&amp;quot;latitude_of_origin&amp;quot;,0.0],UNIT[&amp;quot;Meter&amp;quot;,1.0]]&lt;/WKT&gt;&lt;XOrigin&gt;-5120900&lt;/XOrigin&gt;&lt;YOrigin&gt;-9998100&lt;/YOrigin&gt;&lt;XYScale&gt;450445547.3910538&lt;/XYScale&gt;&lt;ZOrigin&gt;-100000&lt;/ZOrigin&gt;&lt;ZScale&gt;10000&lt;/ZScale&gt;&lt;MOrigin&gt;-100000&lt;/MOrigin&gt;&lt;MScale&gt;10000&lt;/MScale&gt;&lt;XYTolerance&gt;0.001&lt;/XYTolerance&gt;&lt;ZTolerance&gt;0.001&lt;/ZTolerance&gt;&lt;MTolerance&gt;0.001&lt;/MTolerance&gt;&lt;HighPrecision&gt;true&lt;/HighPrecision&gt;&lt;/ProjectedCoordinateSystem&gt;</peXml></coordRef><RasterProperties><General><PixelDepth Sync="TRUE">8</PixelDepth><HasColormap Sync="TRUE">FALSE</HasColormap><CompressionType Sync="TRUE">JPEG</CompressionType><NumBands Sync="TRUE">1</NumBands><Format Sync="TRUE">TIFF</Format><HasPyramids Sync="TRUE">TRUE</HasPyramids><SourceType Sync="TRUE">continuous</SourceType><PixelType Sync="TRUE">unsigned integer</PixelType><NoDataValue Sync="TRUE">256</NoDataValue></General></RasterProperties></DataProperties><SyncDate>20140328</SyncDate><SyncTime>16230600</SyncTime><ModDate>20140328</ModDate><ModTime>16230600</ModTime></Esri><idinfo><citation><citeinfo><onlink Sync="TRUE">\\Storestatic\geo-data\Orthophotos\Government_Yukon\LandPlanningBranch\OldCrow\ocPan_ortho_OldCrow_1997_utm7.tif</onlink></citeinfo></citation></idinfo><distInfo><distributor><distorTran><onLineSrc><linkage Sync="TRUE">file://\\Storestatic\geo-data\Orthophotos\Government_Yukon\LandPlanningBranch\OldCrow\ocPan_ortho_OldCrow_1997_utm7.tif</linkage><protocol Sync="TRUE">Local Area Network</protocol></onLineSrc></distorTran></distributor><distFormat><formatName Sync="TRUE">Raster Dataset</formatName></distFormat></distInfo><dataqual><lineage><procstep><procdesc Sync="TRUE">Dataset moved.</procdesc><srcused Sync="TRUE">\\Storestatic\geo-data\Orthophotos\Government_Yukon\LandPlanningBranch\OldCrow\Ortho\ocPan_ortho_OldCrow_1997_utm7.tif</srcused><procdate Sync="TRUE">20100604</procdate><proctime Sync="TRUE">12041500</proctime></procstep></lineage></dataqual><dataIdInfo><envirDesc Sync="TRUE">Microsoft Windows 7 Version 6.1 (Build 7601) Service Pack 1; Esri ArcGIS 10.2.1.3497</envirDesc><dataLang><languageCode value="eng" Sync="TRUE"></languageCode><countryCode value="USA" Sync="TRUE"></countryCode></dataLang><idCitation><resTitle Sync="TRUE">ortho_OldCrow_1997_utm7.tif</resTitle><presForm><PresFormCd value="005" Sync="TRUE"></PresFormCd></presForm></idCitation><spatRpType><SpatRepTypCd value="002" Sync="TRUE"></SpatRepTypCd></spatRpType><dataExt><geoEle><GeoBndBox esriExtentType="search"><exTypeCode Sync="TRUE">1</exTypeCode><westBL Sync="TRUE">-139.999308</westBL><eastBL Sync="TRUE">-139.566986</eastBL><northBL Sync="TRUE">67.629202</northBL><southBL Sync="TRUE">67.481976</southBL></GeoBndBox></geoEle></dataExt></dataIdInfo><mdLang><languageCode value="eng" Sync="TRUE"></languageCode><countryCode value="USA" Sync="TRUE"></countryCode></mdLang><mdHrLv><ScopeCd value="005" Sync="TRUE"></ScopeCd></mdHrLv><mdHrLvName Sync="TRUE">dataset</mdHrLvName><refSysInfo><RefSystem><refSysID><identCode code="0" Sync="TRUE"></identCode></refSysID></RefSystem></refSysInfo><spatRepInfo><Georect><cellGeo><CellGeoCd Sync="TRUE" value="002"></CellGeoCd></cellGeo><numDims Sync="TRUE">2</numDims><tranParaAv Sync="TRUE">1</tranParaAv><chkPtAv Sync="TRUE">0</chkPtAv><cornerPts><pos Sync="TRUE">542760.000000 7485810.000000</pos></cornerPts><cornerPts><pos Sync="TRUE">542760.000000 7501872.000000</pos></cornerPts><cornerPts><pos Sync="TRUE">560868.000000 7501872.000000</pos></cornerPts><cornerPts><pos Sync="TRUE">560868.000000 7485810.000000</pos></cornerPts><centerPt><pos Sync="TRUE">551814.000000 7493841.000000</pos></centerPt><axisDimension type="002"><dimSize Sync="TRUE">12072</dimSize><dimResol><value Sync="TRUE" uom="Meter">1.500000</value></dimResol></axisDimension><axisDimension type="001"><dimSize Sync="TRUE">10708</dimSize><dimResol><value Sync="TRUE" uom="Meter">1.500000</value></dimResol></axisDimension><ptInPixel><PixOrientCd Sync="TRUE" value="001"></PixOrientCd></ptInPixel></Georect></spatRepInfo><contInfo><ImgDesc><contentTyp><ContentTypCd Sync="TRUE" value="001"></ContentTypCd></contentTyp><covDim><Band><dimDescrp Sync="TRUE">Band_1</dimDescrp><bitsPerVal Sync="TRUE">8</bitsPerVal><valUnit><UOM type="length"></UOM></valUnit></Band></covDim></ImgDesc></contInfo><mdDateSt Sync="TRUE">20140328</mdDateSt></metadata>
