<?xml version="1.0"?>
<!--<!DOCTYPE metadata SYSTEM "http://www.esri.com/metadata/esriprof80.dtd">-->
<metadata xml:lang="en"><Esri><CreaDate>20101103</CreaDate><CreaTime>11562100</CreaTime><SyncOnce>FALSE</SyncOnce><DataProperties><lineage><Process ToolSource="C:\Program Files\ArcGIS\ArcToolbox\Toolboxes\Data Management Tools.tbx\BuildPyramids" Date="20100723" Time="190323">BuildPyramids \\storestatic\geo-data\Quickbird\multi\OldCrow_QB_18June2005_utm7.tif \\storestatic\geo-data\Quickbird\multi\OldCrow_QB_18June2005_utm7.tif</Process><Process ToolSource="C:\Program Files\ArcGIS\Desktop10.0\ArcToolbox\Toolboxes\Data Management Tools.tbx\CalculateStatistics" Date="20110921" Time="182101">CalculateStatistics F:\Imagery\Quickbird\processed\tif\OldCrow_QB_18June2005_utm7.tif 3 3 0;255</Process><Process ToolSource="C:\Program Files\ArcGIS\Desktop10.0\ArcToolbox\Toolboxes\Data Management Tools.tbx\BuildPyramids" Date="20110922" Time="143921">BuildPyramids F:\Imagery\Quickbird\processed\tif\OldCrow_QB_18June2005_utm7.tif</Process><Process ToolSource="c:\program files\arcgis\desktop10.0\ArcToolbox\Toolboxes\Data Management Tools.tbx\BuildPyramids" Date="20120918" Time="035742">BuildPyramids \\storestatic\geo-data\internal\Quickbird\processed\tif\OldCrow_QB_18June2005_utm7.tif</Process><Process ToolSource="c:\program files (x86)\arcgis\desktop10.2\ArcToolbox\Toolboxes\Data Management Tools.tbx\CopyRaster" Date="20140330" Time="033002">CopyRaster G:\Imagery\Satellite\QuickBird\QuickBird_OldCrow_18Jun2005_utm7.tif G:\GY_ProcessedImagery\Quickbird\New_CopyMar30\QuickBird_OldCrow_18Jun2005_utm7.tif # # 256 NONE NONE # NONE NONE</Process></lineage><itemProps><itemName Sync="TRUE">QuickBird_OldCrow_18Jun2005_utm7.tif</itemName><itemLocation><linkage Sync="TRUE">file://G:\GY_ProcessedImagery\Quickbird\New_CopyMar30\QuickBird_OldCrow_18Jun2005_utm7.tif</linkage><protocol Sync="TRUE">Local Area Network</protocol></itemLocation><imsContentType Sync="TRUE">002</imsContentType><nativeExtBox><westBL Sync="TRUE">540190.525000</westBL><eastBL Sync="TRUE">558310.525000</eastBL><southBL Sync="TRUE">7485560.600000</southBL><northBL Sync="TRUE">7503872.600000</northBL><exTypeCode Sync="TRUE">1</exTypeCode></nativeExtBox></itemProps><coordRef><type Sync="TRUE">Projected</type><geogcsn Sync="TRUE">GCS_North_American_1983</geogcsn><csUnits Sync="TRUE">Linear Unit: Meter (1.000000)</csUnits><projcsn Sync="TRUE">NAD83_UTM_zone_7N</projcsn><peXml Sync="TRUE">&lt;ProjectedCoordinateSystem xsi:type='typens:ProjectedCoordinateSystem' xmlns:xsi='http://www.w3.org/2001/XMLSchema-instance' xmlns:xs='http://www.w3.org/2001/XMLSchema' xmlns:typens='http://www.esri.com/schemas/ArcGIS/10.1'&gt;&lt;WKT&gt;PROJCS[&amp;quot;NAD83_UTM_zone_7N&amp;quot;,GEOGCS[&amp;quot;GCS_North_American_1983&amp;quot;,DATUM[&amp;quot;D_North_American_1983&amp;quot;,SPHEROID[&amp;quot;GRS_1980&amp;quot;,6378137.0,298.257222101]],PRIMEM[&amp;quot;Greenwich&amp;quot;,0.0],UNIT[&amp;quot;Degree&amp;quot;,0.0174532925199433]],PROJECTION[&amp;quot;Transverse_Mercator&amp;quot;],PARAMETER[&amp;quot;false_easting&amp;quot;,500000.0],PARAMETER[&amp;quot;false_northing&amp;quot;,0.0],PARAMETER[&amp;quot;central_meridian&amp;quot;,-141.0],PARAMETER[&amp;quot;scale_factor&amp;quot;,0.9996],PARAMETER[&amp;quot;latitude_of_origin&amp;quot;,0.0],UNIT[&amp;quot;Meter&amp;quot;,1.0]]&lt;/WKT&gt;&lt;XOrigin&gt;-5120900&lt;/XOrigin&gt;&lt;YOrigin&gt;-9998100&lt;/YOrigin&gt;&lt;XYScale&gt;450445547.3910538&lt;/XYScale&gt;&lt;ZOrigin&gt;-100000&lt;/ZOrigin&gt;&lt;ZScale&gt;10000&lt;/ZScale&gt;&lt;MOrigin&gt;-100000&lt;/MOrigin&gt;&lt;MScale&gt;10000&lt;/MScale&gt;&lt;XYTolerance&gt;0.001&lt;/XYTolerance&gt;&lt;ZTolerance&gt;0.001&lt;/ZTolerance&gt;&lt;MTolerance&gt;0.001&lt;/MTolerance&gt;&lt;HighPrecision&gt;true&lt;/HighPrecision&gt;&lt;/ProjectedCoordinateSystem&gt;</peXml></coordRef><RasterProperties><General><PixelDepth Sync="TRUE">8</PixelDepth><HasColormap Sync="TRUE">FALSE</HasColormap><CompressionType Sync="TRUE">JPEG</CompressionType><NumBands Sync="TRUE">3</NumBands><Format Sync="TRUE">TIFF</Format><HasPyramids Sync="TRUE">TRUE</HasPyramids><SourceType Sync="TRUE">continuous</SourceType><PixelType Sync="TRUE">unsigned integer</PixelType><NoDataValue Sync="TRUE">256</NoDataValue></General></RasterProperties></DataProperties><MetaID>{DA247092-BFF0-432D-9BD3-BACE05C1D3E9}</MetaID><SyncDate>20140330</SyncDate><SyncTime>03300200</SyncTime><ModDate>20140330</ModDate><ModTime>03300200</ModTime></Esri><idinfo><citation><citeinfo><onlink Sync="TRUE">\\storestatic\geo-data\Quickbird\duplicate rasters\OldCrow_QB_18June2005_utm7.tif</onlink></citeinfo></citation></idinfo><distInfo><distributor><distorTran><onLineSrc><linkage Sync="TRUE">file://\\storestatic\geo-data\Quickbird\duplicate rasters\OldCrow_QB_18June2005_utm7.tif</linkage><protocol Sync="TRUE">Local Area Network</protocol></onLineSrc></distorTran></distributor><distFormat><formatName Sync="TRUE">Raster Dataset</formatName></distFormat></distInfo><dataqual><lineage><procstep><procdesc Sync="TRUE">Dataset copied.</procdesc><srcused Sync="TRUE">\\storestatic\geo-data\Quickbird\multi\OldCrow_QB_18June2005_utm7.tif</srcused><procdate Sync="TRUE">20101103</procdate><proctime Sync="TRUE">11562100</proctime></procstep></lineage></dataqual><dataIdInfo><envirDesc Sync="TRUE">Microsoft Windows 7 Version 6.1 (Build 7601) Service Pack 1; Esri ArcGIS 10.2.1.3497</envirDesc><dataLang><languageCode value="eng" Sync="TRUE"></languageCode><countryCode value="USA" Sync="TRUE"></countryCode></dataLang><idCitation><resTitle Sync="TRUE">QuickBird_OldCrow_18Jun2005_utm7.tif</resTitle><presForm><PresFormCd value="005" Sync="TRUE"></PresFormCd></presForm></idCitation><spatRpType><SpatRepTypCd value="002" Sync="TRUE"></SpatRepTypCd></spatRpType><dataExt><geoEle><GeoBndBox esriExtentType="search"><exTypeCode Sync="TRUE">1</exTypeCode><westBL Sync="TRUE">-140.059518</westBL><eastBL Sync="TRUE">-139.626130</eastBL><northBL Sync="TRUE">67.647508</northBL><southBL Sync="TRUE">67.480255</southBL></GeoBndBox></geoEle></dataExt></dataIdInfo><mdLang><languageCode value="eng" Sync="TRUE"></languageCode><countryCode value="USA" Sync="TRUE"></countryCode></mdLang><mdHrLv><ScopeCd value="005" Sync="TRUE"></ScopeCd></mdHrLv><mdHrLvName Sync="TRUE">dataset</mdHrLvName><refSysInfo><RefSystem><refSysID><identCode code="0" Sync="TRUE"></identCode></refSysID></RefSystem></refSysInfo><spatRepInfo><Georect><cellGeo><CellGeoCd Sync="TRUE" value="002"></CellGeoCd></cellGeo><numDims Sync="TRUE">2</numDims><tranParaAv Sync="TRUE">1</tranParaAv><chkPtAv Sync="TRUE">0</chkPtAv><cornerPts><pos Sync="TRUE">540190.525000 7485560.600000</pos></cornerPts><cornerPts><pos Sync="TRUE">540190.525000 7503872.600000</pos></cornerPts><cornerPts><pos Sync="TRUE">558310.525000 7503872.600000</pos></cornerPts><cornerPts><pos Sync="TRUE">558310.525000 7485560.600000</pos></cornerPts><centerPt><pos Sync="TRUE">549250.525000 7494716.600000</pos></centerPt><axisDimension type="002"><dimSize Sync="TRUE">30200</dimSize><dimResol><value Sync="TRUE" uom="Meter">0.600000</value></dimResol></axisDimension><axisDimension type="001"><dimSize Sync="TRUE">30520</dimSize><dimResol><value Sync="TRUE" uom="Meter">0.600000</value></dimResol></axisDimension><ptInPixel><PixOrientCd Sync="TRUE" value="001"></PixOrientCd></ptInPixel></Georect></spatRepInfo><contInfo><ImgDesc><contentTyp><ContentTypCd Sync="TRUE" value="001"></ContentTypCd></contentTyp><covDim><Band><dimDescrp Sync="TRUE">Band_1</dimDescrp><bitsPerVal Sync="TRUE">8</bitsPerVal><valUnit><UOM type="length"></UOM></valUnit></Band><Band><dimDescrp Sync="TRUE">Band_2</dimDescrp><bitsPerVal Sync="TRUE">8</bitsPerVal><valUnit><UOM type="length"></UOM></valUnit></Band><Band><dimDescrp Sync="TRUE">Band_3</dimDescrp><bitsPerVal Sync="TRUE">8</bitsPerVal><valUnit><UOM type="length"></UOM></valUnit></Band></covDim></ImgDesc></contInfo><mdDateSt Sync="TRUE">20140330</mdDateSt></metadata>
